BEGIN:VCALENDAR
VERSION:2.0
PRODID:-//Parroquia Anunciación de Nuestra Señora - ECPv6.15.17.1//NONSGML v1.0//EN
CALSCALE:GREGORIAN
METHOD:PUBLISH
X-WR-CALNAME:Parroquia Anunciación de Nuestra Señora
X-ORIGINAL-URL:https://anunciacionpozuelo.es
X-WR-CALDESC:Eventos para Parroquia Anunciación de Nuestra Señora
REFRESH-INTERVAL;VALUE=DURATION:PT1H
X-Robots-Tag:noindex
X-PUBLISHED-TTL:PT1H
BEGIN:VTIMEZONE
TZID:Europe/Madrid
BEGIN:DAYLIGHT
TZOFFSETFROM:+0100
TZOFFSETTO:+0200
TZNAME:CEST
DTSTART:20220327T010000
END:DAYLIGHT
BEGIN:STANDARD
TZOFFSETFROM:+0200
TZOFFSETTO:+0100
TZNAME:CET
DTSTART:20221030T010000
END:STANDARD
BEGIN:DAYLIGHT
TZOFFSETFROM:+0100
TZOFFSETTO:+0200
TZNAME:CEST
DTSTART:20230326T010000
END:DAYLIGHT
BEGIN:STANDARD
TZOFFSETFROM:+0200
TZOFFSETTO:+0100
TZNAME:CET
DTSTART:20231029T010000
END:STANDARD
BEGIN:DAYLIGHT
TZOFFSETFROM:+0100
TZOFFSETTO:+0200
TZNAME:CEST
DTSTART:20240331T010000
END:DAYLIGHT
BEGIN:STANDARD
TZOFFSETFROM:+0200
TZOFFSETTO:+0100
TZNAME:CET
DTSTART:20241027T010000
END:STANDARD
END:VTIMEZONE
BEGIN:VEVENT
DTSTART;VALUE=DATE:20231117
DTEND;VALUE=DATE:20231120
DTSTAMP:20260421T143149
CREATED:20231010T224710Z
LAST-MODIFIED:20231010T224933Z
UID:1605-1700179200-1700438399@anunciacionpozuelo.es
SUMMARY:Retiro Bartimeo
DESCRIPTION:
URL:https://anunciacionpozuelo.es/event/retiro-bartimeo/
CATEGORIES:Bartimeo
ATTACH;FMTTYPE=image/png:https://anunciacionpozuelo.es/wp-content/uploads/2023/09/Logotipo-Barti-ANS.png
END:VEVENT
BEGIN:VEVENT
DTSTART;VALUE=DATE:20231110
DTEND;VALUE=DATE:20231113
DTSTAMP:20260421T143149
CREATED:20231010T224635Z
LAST-MODIFIED:20231010T224955Z
UID:1603-1699574400-1699833599@anunciacionpozuelo.es
SUMMARY:Retiro Emaús
DESCRIPTION:
URL:https://anunciacionpozuelo.es/event/retiro-emaus/
CATEGORIES:Emaús
ATTACH;FMTTYPE=image/jpeg:https://anunciacionpozuelo.es/wp-content/uploads/2023/10/IMG_3732-scaled.jpg
END:VEVENT
BEGIN:VEVENT
DTSTART;VALUE=DATE:20231027
DTEND;VALUE=DATE:20231030
DTSTAMP:20260421T143149
CREATED:20231010T224536Z
LAST-MODIFIED:20231023T194144Z
UID:1601-1698364800-1698623999@anunciacionpozuelo.es
SUMMARY:Retiro Effetá
DESCRIPTION:
URL:https://anunciacionpozuelo.es/event/retiro-effeta/
CATEGORIES:Effeta
ATTACH;FMTTYPE=image/webp:https://anunciacionpozuelo.es/wp-content/uploads/2023/10/logo_azul_7-2048x831-1-e1698090093968.webp
END:VEVENT
BEGIN:VEVENT
DTSTART;TZID=Europe/Madrid:20230922T080000
DTEND;TZID=Europe/Madrid:20230924T170000
DTSTAMP:20260421T143149
CREATED:20230919T211312Z
LAST-MODIFIED:20230919T211704Z
UID:791-1695369600-1695574800@anunciacionpozuelo.es
SUMMARY:Inicio Actividad "Ven Sígueme"
DESCRIPTION:
URL:https://anunciacionpozuelo.es/event/inicio-actividad-ven-sigueme/
CATEGORIES:Ven sígueme
ATTACH;FMTTYPE=image/jpeg:https://anunciacionpozuelo.es/wp-content/uploads/2023/09/321817348_468268888827208_1036683478156662346_n.jpg
END:VEVENT
BEGIN:VEVENT
DTSTART;TZID=Europe/Madrid:20230909T170000
DTEND;TZID=Europe/Madrid:20230909T200000
DTSTAMP:20260421T143149
CREATED:20230909T112118Z
LAST-MODIFIED:20230909T112118Z
UID:419-1694278800-1694289600@anunciacionpozuelo.es
SUMMARY:Bodas
DESCRIPTION:
URL:https://anunciacionpozuelo.es/event/bodas/
CATEGORIES:Bodas
ATTACH;FMTTYPE=image/jpeg:https://anunciacionpozuelo.es/wp-content/uploads/2023/09/wedding-ceremony-inside-a-church-2021-08-26-15-42-20-utc-scaled.jpg
END:VEVENT
BEGIN:VEVENT
DTSTART;TZID=Europe/Madrid:20230909T080000
DTEND;TZID=Europe/Madrid:20230909T170000
DTSTAMP:20260421T143149
CREATED:20230909T111701Z
LAST-MODIFIED:20230909T112255Z
UID:413-1694246400-1694278800@anunciacionpozuelo.es
SUMMARY:Comuniones
DESCRIPTION:
URL:https://anunciacionpozuelo.es/event/comuniones/
CATEGORIES:Comuniones
ATTACH;FMTTYPE=image/jpeg:https://anunciacionpozuelo.es/wp-content/uploads/2023/09/25-frases-bonitas-y-originales-para-felicitar-una-comunion_074f0c59_230523142456_1280x886.jpg
END:VEVENT
END:VCALENDAR